BEGIN:VCALENDAR
VERSION:2.0
PRODID:-//Kissimmee Utility Authority - ECPv6.14.2//NONSGML v1.0//EN
CALSCALE:GREGORIAN
METHOD:PUBLISH
X-ORIGINAL-URL:https://kua.com
X-WR-CALDESC:Events for Kissimmee Utility Authority
REFRESH-INTERVAL;VALUE=DURATION:PT1H
X-Robots-Tag:noindex
X-PUBLISHED-TTL:PT1H
BEGIN:VTIMEZONE
TZID:America/New_York
BEGIN:DAYLIGHT
TZOFFSETFROM:-0500
TZOFFSETTO:-0400
TZNAME:EDT
DTSTART:20250309T070000
END:DAYLIGHT
BEGIN:STANDARD
TZOFFSETFROM:-0400
TZOFFSETTO:-0500
TZNAME:EST
DTSTART:20251102T060000
END:STANDARD
END:VTIMEZONE
BEGIN:VEVENT
DTSTART;TZID=America/New_York:20250305T153000
DTEND;TZID=America/New_York:20250305T163000
DTSTAMP:20260420T181620
CREATED:20240905T141002Z
LAST-MODIFIED:20250415T151712Z
UID:67080-1741188600-1741192200@kua.com
SUMMARY:Regular Board Meeting- March 5\, 2025
DESCRIPTION:The regular meeting of the Kissimmee Utility Authority board of directors will be held on Wednesday\, March 5\, 2025\, at 3:30 p.m. in the Brinson Board Room\, James C. Welsh Administration Building\, 1701 W. Carroll Street\, Kissimmee\, FL 34741. \n2025.03.05 Agenda \n2025.03.05 Workshop \n2025.03.05 Minutes \n  \n\n        \n            Attachments\n        2026.04.01 Agenda (119 kB)
URL:https://kua.com/event/regular-board-meeting-march-5-2025/
CATEGORIES:Board Meetings
END:VEVENT
END:VCALENDAR